Package: proDA Version: 1.20.0 Command: rm -rf proDA.buildbin-libdir && mkdir proDA.buildbin-libdir && /Users/biocbuild/BBS/utils/build-universal.sh proDA_1.20.0.tar.gz /Library/Frameworks/R.framework/Resources/bin/R proDA.buildbin-libdir StartedAt: 2025-02-04 13:50:18 -0500 (Tue, 04 Feb 2025) EndedAt: 2025-02-04 13:51:31 -0500 (Tue, 04 Feb 2025) EllapsedTime: 72.7 seconds RetCode: 0 Status: OK PackageFile: proDA_1.20.0.tgz PackageFileSize: 1.208 MiB