Package: proDA Version: 1.20.0 Command: /Library/Frameworks/R.framework/Resources/bin/R CMD build --keep-empty-dirs --no-resave-data proDA StartedAt: 2025-02-03 21:23:55 -0500 (Mon, 03 Feb 2025) EndedAt: 2025-02-03 21:27:06 -0500 (Mon, 03 Feb 2025) EllapsedTime: 191.3 seconds RetCode: 0 Status: OK PackageFile: proDA_1.20.0.tar.gz PackageFileSize: 1.251 MiB