Package: proDA Version: 1.20.0 Command: /home/biocbuild/bbs-3.20-bioc/R/bin/R CMD build --keep-empty-dirs --no-resave-data --md5 proDA StartedAt: 2025-01-30 18:37:53 -0500 (Thu, 30 Jan 2025) EndedAt: 2025-01-30 18:39:11 -0500 (Thu, 30 Jan 2025) EllapsedTime: 78.1 seconds RetCode: 0 Status: OK PackageFile: proDA_1.20.0.tar.gz PackageFileSize: 1.353 MiB