Package: proDA Version: 1.20.0 Command: /home/biocbuild/bbs-3.20-bioc/R/bin/R CMD INSTALL proDA StartedAt: 2025-01-30 15:11:05 -0500 (Thu, 30 Jan 2025) EndedAt: 2025-01-30 15:11:25 -0500 (Thu, 30 Jan 2025) EllapsedTime: 19.6 seconds RetCode: 0 Status: OK