Package: proDA Version: 1.20.0 Command: rm -rf proDA.buildbin-libdir && mkdir proDA.buildbin-libdir && F:\biocbuild\bbs-3.20-bioc\R\bin\R.exe CMD INSTALL --build --library=proDA.buildbin-libdir proDA_1.20.0.tar.gz StartedAt: 2025-02-04 09:12:52 -0500 (Tue, 04 Feb 2025) EndedAt: 2025-02-04 09:13:42 -0500 (Tue, 04 Feb 2025) EllapsedTime: 49.9 seconds RetCode: 0 Status: OK PackageFile: proDA_1.20.0.zip PackageFileSize: 1.083 MiB