Package: proDA Version: 1.20.0 Command: F:\biocbuild\bbs-3.20-bioc\R\bin\R.exe CMD INSTALL proDA StartedAt: 2025-02-03 16:18:55 -0500 (Mon, 03 Feb 2025) EndedAt: 2025-02-03 16:19:30 -0500 (Mon, 03 Feb 2025) EllapsedTime: 34.5 seconds RetCode: 0 Status: OK