Package: proDA Version: 1.20.0 Command: /home/biocbuild/R/R/bin/R CMD build --keep-empty-dirs --no-resave-data proDA StartedAt: 2025-02-04 01:56:40 -0000 (Tue, 04 Feb 2025) EndedAt: 2025-02-04 01:58:30 -0000 (Tue, 04 Feb 2025) EllapsedTime: 110.1 seconds RetCode: 0 Status: OK PackageFile: proDA_1.20.0.tar.gz PackageFileSize: 1.181 MiB