Package: proDA Version: 1.20.0 Command: /home/biocbuild/R/R/bin/R CMD check --install=check:proDA.install-out.txt --library=/home/biocbuild/R/R/site-library --no-vignettes --timings proDA_1.20.0.tar.gz StartedAt: 2025-02-04 10:00:38 -0000 (Tue, 04 Feb 2025) EndedAt: 2025-02-04 10:06:17 -0000 (Tue, 04 Feb 2025) EllapsedTime: 338.4 seconds RetCode: 0 Status: OK CheckDir: proDA.Rcheck Warnings: 0