Package: procoil Version: 2.34.0 Command: rm -rf procoil.buildbin-libdir && mkdir procoil.buildbin-libdir && /Users/biocbuild/BBS/utils/build-universal.sh procoil_2.34.0.tar.gz /Library/Frameworks/R.framework/Resources/bin/R procoil.buildbin-libdir StartedAt: 2025-02-12 16:25:25 -0500 (Wed, 12 Feb 2025) EndedAt: 2025-02-12 16:25:58 -0500 (Wed, 12 Feb 2025) EllapsedTime: 33.1 seconds RetCode: 0 Status: OK PackageFile: procoil_2.34.0.tgz PackageFileSize: 1.589 MiB