Package: procoil Version: 2.34.0 Command: /Library/Frameworks/R.framework/Resources/bin/R CMD build --keep-empty-dirs --no-resave-data procoil StartedAt: 2025-02-10 21:26:04 -0500 (Mon, 10 Feb 2025) EndedAt: 2025-02-10 21:27:33 -0500 (Mon, 10 Feb 2025) EllapsedTime: 89.3 seconds RetCode: 0 Status: OK PackageFile: procoil_2.34.0.tar.gz PackageFileSize: 1.306 MiB