Package: procoil Version: 2.34.0 Command: chmod a+r procoil -R && F:\biocbuild\bbs-3.20-bioc\R\bin\R.exe CMD build --keep-empty-dirs --no-resave-data procoil StartedAt: 2025-02-03 21:21:47 -0500 (Mon, 03 Feb 2025) EndedAt: 2025-02-03 21:22:37 -0500 (Mon, 03 Feb 2025) EllapsedTime: 50.8 seconds RetCode: 0 Status: OK PackageFile: procoil_2.34.0.tar.gz PackageFileSize: 1.264 MiB