Package: procoil Version: 2.34.0 Command: /home/biocbuild/R/R/bin/R CMD build --keep-empty-dirs --no-resave-data procoil StartedAt: 2025-02-11 01:37:42 -0000 (Tue, 11 Feb 2025) EndedAt: 2025-02-11 01:38:28 -0000 (Tue, 11 Feb 2025) EllapsedTime: 46.0 seconds RetCode: 0 Status: OK PackageFile: procoil_2.34.0.tar.gz PackageFileSize: 1.298 MiB