Package: profileplyr Version: 1.22.0 Command: rm -rf profileplyr.buildbin-libdir && mkdir profileplyr.buildbin-libdir && /Users/biocbuild/BBS/utils/build-universal.sh profileplyr_1.22.0.tar.gz /Library/Frameworks/R.framework/Resources/bin/R profileplyr.buildbin-libdir StartedAt: 2025-02-05 17:11:58 -0500 (Wed, 05 Feb 2025) EndedAt: 2025-02-05 17:13:10 -0500 (Wed, 05 Feb 2025) EllapsedTime: 71.6 seconds RetCode: 0 Status: OK PackageFile: profileplyr_1.22.0.tgz PackageFileSize: 2.548 MiB