Package: profileplyr Version: 1.22.0 Command: /Library/Frameworks/R.framework/Resources/bin/R CMD check --install=check:profileplyr.install-out.txt --library=/Library/Frameworks/R.framework/Resources/library --no-vignettes --timings profileplyr_1.22.0.tar.gz StartedAt: 2025-02-12 05:25:19 -0500 (Wed, 12 Feb 2025) EndedAt: 2025-02-12 05:33:30 -0500 (Wed, 12 Feb 2025) EllapsedTime: 491.5 seconds RetCode: 0 Status: OK CheckDir: profileplyr.Rcheck Warnings: 0