Package: profileplyr Version: 1.22.0 Command: /home/biocbuild/R/R/bin/R CMD check --install=check:profileplyr.install-out.txt --library=/home/biocbuild/R/R/site-library --no-vignettes --timings profileplyr_1.22.0.tar.gz StartedAt: 2024-11-20 11:11:30 -0000 (Wed, 20 Nov 2024) EndedAt: 2024-11-20 11:20:57 -0000 (Wed, 20 Nov 2024) EllapsedTime: 567.0 seconds RetCode: 0 Status: OK CheckDir: profileplyr.Rcheck Warnings: 0