Package: profileplyr Version: 1.22.0 Command: /Library/Frameworks/R.framework/Resources/bin/R CMD INSTALL profileplyr StartedAt: 2025-02-10 16:17:02 -0500 (Mon, 10 Feb 2025) EndedAt: 2025-02-10 16:18:56 -0500 (Mon, 10 Feb 2025) EllapsedTime: 114.0 seconds RetCode: 0 Status: OK