Package: profileplyr Version: 1.22.0 Command: F:\biocbuild\bbs-3.20-bioc\R\bin\R.exe CMD check --no-multiarch --install=check:profileplyr.install-out.txt --library=F:\biocbuild\bbs-3.20-bioc\R\library --no-vignettes --timings profileplyr_1.22.0.tar.gz StartedAt: 2025-02-04 05:03:39 -0500 (Tue, 04 Feb 2025) EndedAt: 2025-02-04 05:12:17 -0500 (Tue, 04 Feb 2025) EllapsedTime: 518.6 seconds RetCode: 0 Status: OK CheckDir: profileplyr.Rcheck Warnings: 0