Package: projectR Version: 1.22.0 Command: /Library/Frameworks/R.framework/Resources/bin/R CMD build --keep-empty-dirs --no-resave-data projectR StartedAt: 2025-02-11 05:45:46 -0500 (Tue, 11 Feb 2025) EndedAt: 2025-02-11 05:46:51 -0500 (Tue, 11 Feb 2025) EllapsedTime: 65.0 seconds RetCode: 0 Status: OK PackageFile: projectR_1.22.0.tar.gz PackageFileSize: 5.876 MiB