Package: projectR Version: 1.22.0 Command: /Library/Frameworks/R.framework/Resources/bin/R CMD INSTALL projectR StartedAt: 2025-02-03 16:21:54 -0500 (Mon, 03 Feb 2025) EndedAt: 2025-02-03 16:22:29 -0500 (Mon, 03 Feb 2025) EllapsedTime: 35.4 seconds RetCode: 0 Status: OK