Package: projectR Version: 1.22.0 Command: /home/biocbuild/R/R/bin/R CMD check --install=check:projectR.install-out.txt --library=/home/biocbuild/R/R/site-library --no-vignettes --timings projectR_1.22.0.tar.gz StartedAt: 2025-02-04 10:01:06 -0000 (Tue, 04 Feb 2025) EndedAt: 2025-02-04 10:04:08 -0000 (Tue, 04 Feb 2025) EllapsedTime: 182.2 seconds RetCode: 0 Status: OK CheckDir: projectR.Rcheck Warnings: 0