Package: projectR Version: 1.22.0 Command: /home/biocbuild/R/R/bin/R CMD INSTALL projectR StartedAt: 2025-02-03 21:06:59 -0000 (Mon, 03 Feb 2025) EndedAt: 2025-02-03 21:07:20 -0000 (Mon, 03 Feb 2025) EllapsedTime: 20.9 seconds RetCode: 0 Status: OK