Package: protGear Version: 1.10.0 Command: /Library/Frameworks/R.framework/Resources/bin/R CMD INSTALL protGear StartedAt: 2025-02-03 18:15:18 -0500 (Mon, 03 Feb 2025) EndedAt: 2025-02-03 18:15:47 -0500 (Mon, 03 Feb 2025) EllapsedTime: 28.8 seconds RetCode: 0 Status: OK