Package: protGear Version: 1.10.0 Command: /Library/Frameworks/R.framework/Resources/bin/R CMD build --keep-empty-dirs --no-resave-data protGear StartedAt: 2025-02-03 21:25:54 -0500 (Mon, 03 Feb 2025) EndedAt: 2025-02-03 21:28:08 -0500 (Mon, 03 Feb 2025) EllapsedTime: 134.2 seconds RetCode: 0 Status: OK PackageFile: protGear_1.10.0.tar.gz PackageFileSize: 5.043 MiB