Package: protGear Version: 1.10.0 Command: /home/biocbuild/bbs-3.20-bioc/R/bin/R CMD INSTALL protGear StartedAt: 2025-02-03 16:09:32 -0500 (Mon, 03 Feb 2025) EndedAt: 2025-02-03 16:10:02 -0500 (Mon, 03 Feb 2025) EllapsedTime: 29.6 seconds RetCode: 0 Status: OK