Package: protGear Version: 1.10.0 Command: chmod a+r protGear -R && F:\biocbuild\bbs-3.20-bioc\R\bin\R.exe CMD build --keep-empty-dirs --no-resave-data protGear StartedAt: 2025-02-03 21:23:15 -0500 (Mon, 03 Feb 2025) EndedAt: 2025-02-03 21:25:06 -0500 (Mon, 03 Feb 2025) EllapsedTime: 111.7 seconds RetCode: 0 Status: OK PackageFile: protGear_1.10.0.tar.gz PackageFileSize: 2.929 MiB