Package: protGear Version: 1.10.0 Command: /home/biocbuild/R/R/bin/R CMD build --keep-empty-dirs --no-resave-data protGear StartedAt: 2025-02-04 01:58:01 -0000 (Tue, 04 Feb 2025) EndedAt: 2025-02-04 01:59:29 -0000 (Tue, 04 Feb 2025) EllapsedTime: 88.1 seconds RetCode: 0 Status: OK PackageFile: protGear_1.10.0.tar.gz PackageFileSize: 3.151 MiB