Package: psichomics Version: 1.32.0 Command: /Library/Frameworks/R.framework/Resources/bin/R CMD INSTALL psichomics StartedAt: 2025-02-10 17:14:17 -0500 (Mon, 10 Feb 2025) EndedAt: 2025-02-10 17:15:43 -0500 (Mon, 10 Feb 2025) EllapsedTime: 86.3 seconds RetCode: 0 Status: OK