Package: psichomics Version: 1.32.0 Command: F:\biocbuild\bbs-3.20-bioc\R\bin\R.exe CMD INSTALL psichomics StartedAt: 2025-02-03 16:58:31 -0500 (Mon, 03 Feb 2025) EndedAt: 2025-02-03 17:01:51 -0500 (Mon, 03 Feb 2025) EllapsedTime: 200.0 seconds RetCode: 0 Status: OK