Package: psichomics Version: 1.32.0 Command: /home/biocbuild/R/R/bin/R CMD build --keep-empty-dirs --no-resave-data psichomics StartedAt: 2025-02-04 01:58:28 -0000 (Tue, 04 Feb 2025) EndedAt: 2025-02-04 02:00:57 -0000 (Tue, 04 Feb 2025) EllapsedTime: 149.2 seconds RetCode: 0 Status: OK PackageFile: psichomics_1.32.0.tar.gz PackageFileSize: 6.255 MiB