Package: psichomics Version: 1.32.0 Command: /home/biocbuild/R/R/bin/R CMD INSTALL psichomics StartedAt: 2025-02-03 21:04:13 -0000 (Mon, 03 Feb 2025) EndedAt: 2025-02-03 21:05:51 -0000 (Mon, 03 Feb 2025) EllapsedTime: 98.2 seconds RetCode: 0 Status: OK