Package: ptairMS Version: 1.14.0 Command: /Library/Frameworks/R.framework/Resources/bin/R CMD INSTALL ptairMS StartedAt: 2025-02-03 18:09:46 -0500 (Mon, 03 Feb 2025) EndedAt: 2025-02-03 18:10:08 -0500 (Mon, 03 Feb 2025) EllapsedTime: 21.6 seconds RetCode: 0 Status: OK