Package: ptairMS Version: 1.14.0 Command: /Library/Frameworks/R.framework/Resources/bin/R CMD build --keep-empty-dirs --no-resave-data ptairMS StartedAt: 2025-02-10 21:28:22 -0500 (Mon, 10 Feb 2025) EndedAt: 2025-02-10 21:34:51 -0500 (Mon, 10 Feb 2025) EllapsedTime: 389.3 seconds RetCode: 0 Status: OK PackageFile: ptairMS_1.14.0.tar.gz PackageFileSize: 3.356 MiB