Package: ptairMS Version: 1.14.0 Command: /Library/Frameworks/R.framework/Resources/bin/R CMD INSTALL ptairMS StartedAt: 2025-02-03 16:46:27 -0500 (Mon, 03 Feb 2025) EndedAt: 2025-02-03 16:47:14 -0500 (Mon, 03 Feb 2025) EllapsedTime: 46.9 seconds RetCode: 0 Status: OK