Package: ptairMS Version: 1.14.0 Command: /home/biocbuild/bbs-3.20-bioc/R/bin/R CMD INSTALL ptairMS StartedAt: 2025-02-10 16:01:35 -0500 (Mon, 10 Feb 2025) EndedAt: 2025-02-10 16:01:54 -0500 (Mon, 10 Feb 2025) EllapsedTime: 19.3 seconds RetCode: 0 Status: OK