Package: ptairMS Version: 1.14.0 Command: chmod a+r ptairMS -R && F:\biocbuild\bbs-3.20-bioc\R\bin\R.exe CMD build --keep-empty-dirs --no-resave-data ptairMS StartedAt: 2025-02-10 21:17:25 -0500 (Mon, 10 Feb 2025) EndedAt: 2025-02-10 21:21:35 -0500 (Mon, 10 Feb 2025) EllapsedTime: 250.2 seconds RetCode: 0 Status: OK PackageFile: ptairMS_1.14.0.tar.gz PackageFileSize: 1.931 MiB