Package: ptairMS Version: 1.14.0 Command: /home/biocbuild/R/R/bin/R CMD INSTALL ptairMS StartedAt: 2025-02-10 21:07:12 -0000 (Mon, 10 Feb 2025) EndedAt: 2025-02-10 21:07:42 -0000 (Mon, 10 Feb 2025) EllapsedTime: 29.9 seconds RetCode: 0 Status: OK