Package: pwalign Version: 1.2.0 Command: /Library/Frameworks/R.framework/Resources/bin/R CMD check --install=check:pwalign.install-out.txt --library=/Library/Frameworks/R.framework/Resources/library --no-vignettes --timings pwalign_1.2.0.tar.gz StartedAt: 2025-01-31 08:24:28 -0500 (Fri, 31 Jan 2025) EndedAt: 2025-01-31 08:28:07 -0500 (Fri, 31 Jan 2025) EllapsedTime: 218.5 seconds RetCode: 0 Status: OK CheckDir: pwalign.Rcheck Warnings: 0