Package: pwalign Version: 1.2.0 Command: /home/biocbuild/bbs-3.20-bioc/R/bin/R CMD check --install=check:pwalign.install-out.txt --library=/home/biocbuild/bbs-3.20-bioc/R/site-library --timings pwalign_1.2.0.tar.gz StartedAt: 2025-02-04 01:26:40 -0500 (Tue, 04 Feb 2025) EndedAt: 2025-02-04 01:28:55 -0500 (Tue, 04 Feb 2025) EllapsedTime: 135.1 seconds RetCode: 0 Status: OK CheckDir: pwalign.Rcheck Warnings: 0