Package: pwalign Version: 1.2.0 Command: /home/biocbuild/bbs-3.20-bioc/R/bin/R CMD INSTALL pwalign StartedAt: 2025-02-03 15:19:24 -0500 (Mon, 03 Feb 2025) EndedAt: 2025-02-03 15:19:38 -0500 (Mon, 03 Feb 2025) EllapsedTime: 14.0 seconds RetCode: 0 Status: OK