Package: pwalign Version: 1.2.0 Command: chmod a+r pwalign -R && F:\biocbuild\bbs-3.20-bioc\R\bin\R.exe CMD build --keep-empty-dirs --no-resave-data pwalign StartedAt: 2025-02-03 21:24:40 -0500 (Mon, 03 Feb 2025) EndedAt: 2025-02-03 21:26:11 -0500 (Mon, 03 Feb 2025) EllapsedTime: 91.4 seconds RetCode: 0 Status: OK PackageFile: pwalign_1.2.0.tar.gz PackageFileSize: 348.4 KiB