Package: pwalign Version: 1.2.0 Command: /home/biocbuild/R/R/bin/R CMD build --keep-empty-dirs --no-resave-data pwalign StartedAt: 2025-02-04 01:59:41 -0000 (Tue, 04 Feb 2025) EndedAt: 2025-02-04 02:00:46 -0000 (Tue, 04 Feb 2025) EllapsedTime: 65.1 seconds RetCode: 0 Status: OK PackageFile: pwalign_1.2.0.tar.gz PackageFileSize: 339.6 KiB