Package: pwalign Version: 1.2.0 Command: /home/biocbuild/R/R/bin/R CMD INSTALL pwalign StartedAt: 2025-02-03 20:29:32 -0000 (Mon, 03 Feb 2025) EndedAt: 2025-02-03 20:29:54 -0000 (Mon, 03 Feb 2025) EllapsedTime: 22.0 seconds RetCode: 0 Status: OK