Package: qmtools Version: 1.10.0 Command: /Library/Frameworks/R.framework/Resources/bin/R CMD build --keep-empty-dirs --no-resave-data qmtools StartedAt: 2025-02-04 05:58:09 -0500 (Tue, 04 Feb 2025) EndedAt: 2025-02-04 05:59:05 -0500 (Tue, 04 Feb 2025) EllapsedTime: 55.9 seconds RetCode: 0 Status: OK PackageFile: qmtools_1.10.0.tar.gz PackageFileSize: 1.409 MiB