Package: qmtools Version: 1.10.0 Command: /home/biocbuild/bbs-3.20-bioc/R/bin/R CMD check --install=check:qmtools.install-out.txt --library=/home/biocbuild/bbs-3.20-bioc/R/site-library --timings qmtools_1.10.0.tar.gz StartedAt: 2025-02-04 01:28:20 -0500 (Tue, 04 Feb 2025) EndedAt: 2025-02-04 01:31:49 -0500 (Tue, 04 Feb 2025) EllapsedTime: 209.2 seconds RetCode: 0 Status: OK CheckDir: qmtools.Rcheck Warnings: 0