Package: qpgraph Version: 2.40.0 Command: /Library/Frameworks/R.framework/Resources/bin/R CMD check --install=check:qpgraph.install-out.txt --library=/Library/Frameworks/R.framework/Resources/library --no-vignettes --timings qpgraph_2.40.0.tar.gz StartedAt: 2025-02-05 06:22:33 -0500 (Wed, 05 Feb 2025) EndedAt: 2025-02-05 06:28:24 -0500 (Wed, 05 Feb 2025) EllapsedTime: 350.4 seconds RetCode: 0 Status: WARNINGS CheckDir: qpgraph.Rcheck Warnings: 1