Package: qpgraph Version: 2.40.0 Command: /Library/Frameworks/R.framework/Resources/bin/R CMD build --keep-empty-dirs --no-resave-data qpgraph StartedAt: 2025-02-03 21:29:01 -0500 (Mon, 03 Feb 2025) EndedAt: 2025-02-03 21:33:12 -0500 (Mon, 03 Feb 2025) EllapsedTime: 250.7 seconds RetCode: 0 Status: OK PackageFile: qpgraph_2.40.0.tar.gz PackageFileSize: 2.7 MiB