Package: qpgraph Version: 2.40.0 Command: /home/biocbuild/bbs-3.20-bioc/R/bin/R CMD build --keep-empty-dirs --no-resave-data --md5 qpgraph StartedAt: 2025-02-03 18:50:24 -0500 (Mon, 03 Feb 2025) EndedAt: 2025-02-03 18:52:11 -0500 (Mon, 03 Feb 2025) EllapsedTime: 106.1 seconds RetCode: 0 Status: OK PackageFile: qpgraph_2.40.0.tar.gz PackageFileSize: 2.7 MiB