Package: qpgraph Version: 2.40.0 Command: /home/biocbuild/bbs-3.20-bioc/R/bin/R CMD INSTALL qpgraph StartedAt: 2025-01-30 15:20:01 -0500 (Thu, 30 Jan 2025) EndedAt: 2025-01-30 15:20:59 -0500 (Thu, 30 Jan 2025) EllapsedTime: 57.4 seconds RetCode: 0 Status: OK