Package: qpgraph Version: 2.40.0 Command: chmod a+r qpgraph -R && F:\biocbuild\bbs-3.20-bioc\R\bin\R.exe CMD build --keep-empty-dirs --no-resave-data qpgraph StartedAt: 2025-01-30 21:09:42 -0500 (Thu, 30 Jan 2025) EndedAt: 2025-01-30 21:12:06 -0500 (Thu, 30 Jan 2025) EllapsedTime: 144.3 seconds RetCode: 0 Status: OK PackageFile: qpgraph_2.40.0.tar.gz PackageFileSize: 2.701 MiB