Package: qpgraph Version: 2.40.0 Command: F:\biocbuild\bbs-3.20-bioc\R\bin\R.exe CMD INSTALL qpgraph StartedAt: 2025-02-03 16:36:32 -0500 (Mon, 03 Feb 2025) EndedAt: 2025-02-03 16:38:11 -0500 (Mon, 03 Feb 2025) EllapsedTime: 98.8 seconds RetCode: 0 Status: OK